BEGIN:VCALENDAR
VERSION:2.0
PRODID:-//Brookline Education Foundation - ECPv6.15.20//NONSGML v1.0//EN
CALSCALE:GREGORIAN
METHOD:PUBLISH
X-WR-CALNAME:Brookline Education Foundation
X-ORIGINAL-URL:https://brooklinefoundation.org
X-WR-CALDESC:Events for Brookline Education Foundation
REFRESH-INTERVAL;VALUE=DURATION:PT1H
X-Robots-Tag:noindex
X-PUBLISHED-TTL:PT1H
BEGIN:VTIMEZONE
TZID:UTC
BEGIN:STANDARD
TZOFFSETFROM:+0000
TZOFFSETTO:+0000
TZNAME:UTC
DTSTART:20180101T000000
END:STANDARD
END:VTIMEZONE
BEGIN:VEVENT
DTSTART;TZID=UTC:20191117T130000
DTEND;TZID=UTC:20191117T150000
DTSTAMP:20260424T235633
CREATED:20190716T210806Z
LAST-MODIFIED:20191029T153445Z
UID:2169-1573995600-1574002800@brooklinefoundation.org
SUMMARY:5th Grade Spelling Bee
DESCRIPTION:The 2019 Brookline Education Foundation 5th Grade Spelling Bee took place on Sunday\, March 10\, 2019. \nThe first place winner in our March 2019 Spelling Bee was Owen Bergstein from Pierce School. The winning word was “supercilious.” \nCongratulations to our winner and to all the students who participated in our Bee! \nHow does the Children’s Spelling Bee work? \nThe Children’s Spelling Bee is an “old-fashioned” spelling bee with the spellers taking turns\, each spelling a different word. Once a speller misspells one word\, he or she is out of the Bee. Prizes are awarded to the winners and each speller receives a certificate for participating. For details on how the Bee works\, see Spelling Bee Rules and Procedures.
URL:https://brooklinefoundation.org/event/5th-grade-spelling-bee/
LOCATION:Brookline High School Auditorium\, 115 Greenough Street\, Brookline\, MA\, 02445\, United States
CATEGORIES:Event,Spelling Bee
ATTACH;FMTTYPE=image/jpeg:https://brooklinefoundation.org/wp-content/uploads/2019/07/spelling-2019-winner.jpg
END:VEVENT
BEGIN:VEVENT
DTSTART;TZID=UTC:20191004T180000
DTEND;TZID=UTC:20191004T200000
DTSTAMP:20260424T235633
CREATED:20190716T211548Z
LAST-MODIFIED:20190918T154345Z
UID:2175-1570212000-1570219200@brooklinefoundation.org
SUMMARY:Tales From The Classroom
DESCRIPTION:Join us on October 4th\, at 6pm to hear from our thoughtful 2019 Metzger Fellows: Mireille Blau\, Coolidge Corner School; Paul Epstein\, Brookline High School; Rebecca Hayden\, Brookline High School; Evan Mousseau\, Brookline High School; Lauren Ockene\, Pierce School; Emily Stewart\, Districtwide Music; and Meghan Walsh\, Runkle School. \nMargaret Metzger (1945-2013) taught English at Brookline High School for over forty years\, influencing thousands of students and educators through her teaching\, writing\, and mentoring. She was a 2005 recipient of the BEF’s Ernest R. Caverly Award for Excellence in Teaching. \nMargaret’s impact on education continues to be enormous. In honor of her life and achievements\, the BEF has established the Margaret Metzger Fellowship Fund to support a fellowship grant program for at least 3 to 5 years. \nThe Margaret Metzger Fellowship will create grants to support the continuation of Margaret’s work: thinking about the classroom\, writing about teaching\, and furthering the art of educating young people. In this time of frequent testing\, Margaret’s belief in education as transformative and rigorous is more important than ever. \nPlease let us know if you’re coming! \nClick here to watch a video of our 2018 Metzger Fellowship event. \nIf you would like to continue Margaret’s inspiring legacy and help further her mission to show that “education is sacred\,” please DONATE NOW to the Margaret Metzger Fellowship Fund. Kindly indicate that your donation is for the Margaret Metzger Fellowship within the box titled “MY DONATION IS IN HONOR/MEMORY OF” on the “review your donation” page.
URL:https://brooklinefoundation.org/event/tales-from-the-classroom/
LOCATION:Lincoln School Auditorium\, 19 Kennard Street\, Brookline\, MA\, 02445\, United States
CATEGORIES:Event,Metzger Fellows Celebration
ATTACH;FMTTYPE=image/jpeg:https://brooklinefoundation.org/wp-content/uploads/2019/08/2019-Metzger.jpg
END:VEVENT
END:VCALENDAR