BEGIN:VCALENDAR
VERSION:2.0
PRODID:-//Brookline Education Foundation - ECPv6.15.20//NONSGML v1.0//EN
CALSCALE:GREGORIAN
METHOD:PUBLISH
X-WR-CALNAME:Brookline Education Foundation
X-ORIGINAL-URL:https://brooklinefoundation.org
X-WR-CALDESC:Events for Brookline Education Foundation
REFRESH-INTERVAL;VALUE=DURATION:PT1H
X-Robots-Tag:noindex
X-PUBLISHED-TTL:PT1H
BEGIN:VTIMEZONE
TZID:America/New_York
BEGIN:DAYLIGHT
TZOFFSETFROM:-0500
TZOFFSETTO:-0400
TZNAME:EDT
DTSTART:20250309T070000
END:DAYLIGHT
BEGIN:STANDARD
TZOFFSETFROM:-0400
TZOFFSETTO:-0500
TZNAME:EST
DTSTART:20251102T060000
END:STANDARD
BEGIN:DAYLIGHT
TZOFFSETFROM:-0500
TZOFFSETTO:-0400
TZNAME:EDT
DTSTART:20260308T070000
END:DAYLIGHT
BEGIN:STANDARD
TZOFFSETFROM:-0400
TZOFFSETTO:-0500
TZNAME:EST
DTSTART:20261101T060000
END:STANDARD
BEGIN:DAYLIGHT
TZOFFSETFROM:-0500
TZOFFSETTO:-0400
TZNAME:EDT
DTSTART:20270314T070000
END:DAYLIGHT
BEGIN:STANDARD
TZOFFSETFROM:-0400
TZOFFSETTO:-0500
TZNAME:EST
DTSTART:20271107T060000
END:STANDARD
END:VTIMEZONE
BEGIN:VEVENT
DTSTART;TZID=America/New_York:20260420T080000
DTEND;TZID=America/New_York:20260420T170000
DTSTAMP:20260421T112103
CREATED:20250917T183546Z
LAST-MODIFIED:20250917T183546Z
UID:8003-1776672000-1776704400@brooklinefoundation.org
SUMMARY:2026 Boston Marathon
DESCRIPTION:The BEF has five runners participating in this year’s iconic Boston Marathon\, raising funds for us as part of Team Brookline. We host a cheering station at Mile 24\, on the corner of Beacon and St. Mary’s – come down and help us cheer on our runners!
URL:https://brooklinefoundation.org/event/2026-boston-marathon/
LOCATION:MA
ATTACH;FMTTYPE=image/png:https://brooklinefoundation.org/wp-content/uploads/2025/09/TB_2026-Logos_OneTownOneTeam_final-02-scaled.png
END:VEVENT
BEGIN:VEVENT
DTSTART;TZID=America/New_York:20260505T153000
DTEND;TZID=America/New_York:20260505T170000
DTSTAMP:20260421T112103
CREATED:20250916T134432Z
LAST-MODIFIED:20250916T134847Z
UID:7997-1777995000-1778000400@brooklinefoundation.org
SUMMARY:Celebrating Teachers
DESCRIPTION:Join us in congratulating this year’s grant and award winners\, and hear from the 2025 winners of the Ernest R. Caverly Award for Excellence in Teaching.
URL:https://brooklinefoundation.org/event/celebrating-teachers-7/
LOCATION:Brookline High School STEM Commons\, 115 Greenough St\, Brookline\, Massachusetts\, 02445
ATTACH;FMTTYPE=image/jpeg:https://brooklinefoundation.org/wp-content/uploads/2025/05/Daughters-scaled.jpg
END:VEVENT
END:VCALENDAR