BEGIN:VCALENDAR
VERSION:2.0
PRODID:-//Brookline Education Foundation - ECPv6.15.20//NONSGML v1.0//EN
CALSCALE:GREGORIAN
METHOD:PUBLISH
X-ORIGINAL-URL:https://brooklinefoundation.org
X-WR-CALDESC:Events for Brookline Education Foundation
REFRESH-INTERVAL;VALUE=DURATION:PT1H
X-Robots-Tag:noindex
X-PUBLISHED-TTL:PT1H
BEGIN:VTIMEZONE
TZID:America/New_York
BEGIN:DAYLIGHT
TZOFFSETFROM:-0500
TZOFFSETTO:-0400
TZNAME:EDT
DTSTART:20200308T070000
END:DAYLIGHT
BEGIN:STANDARD
TZOFFSETFROM:-0400
TZOFFSETTO:-0500
TZNAME:EST
DTSTART:20201101T060000
END:STANDARD
BEGIN:DAYLIGHT
TZOFFSETFROM:-0500
TZOFFSETTO:-0400
TZNAME:EDT
DTSTART:20210314T070000
END:DAYLIGHT
BEGIN:STANDARD
TZOFFSETFROM:-0400
TZOFFSETTO:-0500
TZNAME:EST
DTSTART:20211107T060000
END:STANDARD
BEGIN:DAYLIGHT
TZOFFSETFROM:-0500
TZOFFSETTO:-0400
TZNAME:EDT
DTSTART:20220313T070000
END:DAYLIGHT
BEGIN:STANDARD
TZOFFSETFROM:-0400
TZOFFSETTO:-0500
TZNAME:EST
DTSTART:20221106T060000
END:STANDARD
END:VTIMEZONE
BEGIN:VEVENT
DTSTART;TZID=America/New_York:20210225T193000
DTEND;TZID=America/New_York:20210225T203000
DTSTAMP:20260424T054215
CREATED:20210213T224403Z
LAST-MODIFIED:20210301T184437Z
UID:4455-1614281400-1614285000@brooklinefoundation.org
SUMMARY:Equity in Education Speaker Series: SEED Grants in Brookline Schools
DESCRIPTION:The Brookline Education Foundation is pleased to announce a new speaker series\, Equity in Education. This series will highlight the BEF’s work to support equity in education and expand the conversation about how the Public Schools of Brookline can better meet the needs of its diverse student body.\n\nThe first FREE webinar event is Thursday\, February 25th at 7:30 pm\, and will showcase the work of SEED (Seeking Educational Equity and Diversity) grants. The BEF has funded six teachers to take the SEED training so far\, and we are thrilled to welcome five of those teachers to speak about their experiences with the training and its impact on their colleagues\, their classrooms\, and their schools.\n\n\nPanelists will be Julie Boss\, K-5 Math Specialist; J. Malcolm Cawthorne\, BHS Social Studies Teacher\, and BHS METCO Coordinator; Lindsay Davis\, BHS World Language Teacher; Kara Lopez\, BHS Guidance Counselor; Hilory Rosenzweig\, K-5 Math Specialist\n\n\n\nRegister here for this FREE event
URL:https://brooklinefoundation.org/event/equity-in-education-speaker-series-seed-grants-in-brookline-schools/
LOCATION:MA
CATEGORIES:Equity in Education Speaker Series,Speaker Series,Speaker Series
END:VEVENT
END:VCALENDAR