BEGIN:VCALENDAR
VERSION:2.0
PRODID:-//Brookline Education Foundation - ECPv6.15.20//NONSGML v1.0//EN
CALSCALE:GREGORIAN
METHOD:PUBLISH
X-WR-CALNAME:Brookline Education Foundation
X-ORIGINAL-URL:https://brooklinefoundation.org
X-WR-CALDESC:Events for Brookline Education Foundation
REFRESH-INTERVAL;VALUE=DURATION:PT1H
X-Robots-Tag:noindex
X-PUBLISHED-TTL:PT1H
BEGIN:VTIMEZONE
TZID:America/New_York
BEGIN:DAYLIGHT
TZOFFSETFROM:-0500
TZOFFSETTO:-0400
TZNAME:EDT
DTSTART:20200308T070000
END:DAYLIGHT
BEGIN:STANDARD
TZOFFSETFROM:-0400
TZOFFSETTO:-0500
TZNAME:EST
DTSTART:20201101T060000
END:STANDARD
BEGIN:DAYLIGHT
TZOFFSETFROM:-0500
TZOFFSETTO:-0400
TZNAME:EDT
DTSTART:20210314T070000
END:DAYLIGHT
BEGIN:STANDARD
TZOFFSETFROM:-0400
TZOFFSETTO:-0500
TZNAME:EST
DTSTART:20211107T060000
END:STANDARD
BEGIN:DAYLIGHT
TZOFFSETFROM:-0500
TZOFFSETTO:-0400
TZNAME:EDT
DTSTART:20220313T070000
END:DAYLIGHT
BEGIN:STANDARD
TZOFFSETFROM:-0400
TZOFFSETTO:-0500
TZNAME:EST
DTSTART:20221106T060000
END:STANDARD
END:VTIMEZONE
BEGIN:VEVENT
DTSTART;TZID=America/New_York:20210511T153000
DTEND;TZID=America/New_York:20210511T163000
DTSTAMP:20260424T020521
CREATED:20210309T143512Z
LAST-MODIFIED:20210416T153451Z
UID:4496-1620747000-1620750600@brooklinefoundation.org
SUMMARY:Celebrating Teachers
DESCRIPTION:Save the Date! The BEF’s tradition of ‘Celebrating Teachers’ each May will make its return this year\, in a virtual format. We will be celebrating our two Caverly Award Winners\, Francesca Stark (Driscoll) and Betsy Davis (BHS) at 3:30 pm and they will be presenting their acceptance speeches to a limited audience of family and close friends\, and we will broadcast them with help from Brookline Interactive Group Live stream. Please watch live (link below) on May 11th at 3:30 pm or visit our Youtube channel at your convenience. These personal reflections on teaching are always moving and not to be missed.
URL:https://brooklinefoundation.org/event/celebrating-teachers-virtual/
LOCATION:Virtual
CATEGORIES:Event
ATTACH;FMTTYPE=image/jpeg:https://brooklinefoundation.org/wp-content/uploads/2019/10/apples.jpg
END:VEVENT
END:VCALENDAR