BEGIN:VCALENDAR
VERSION:2.0
PRODID:-//Brookline Education Foundation - ECPv6.15.20//NONSGML v1.0//EN
CALSCALE:GREGORIAN
METHOD:PUBLISH
X-ORIGINAL-URL:https://brooklinefoundation.org
X-WR-CALDESC:Events for Brookline Education Foundation
REFRESH-INTERVAL;VALUE=DURATION:PT1H
X-Robots-Tag:noindex
X-PUBLISHED-TTL:PT1H
BEGIN:VTIMEZONE
TZID:America/New_York
BEGIN:DAYLIGHT
TZOFFSETFROM:-0500
TZOFFSETTO:-0400
TZNAME:EDT
DTSTART:20200308T070000
END:DAYLIGHT
BEGIN:STANDARD
TZOFFSETFROM:-0400
TZOFFSETTO:-0500
TZNAME:EST
DTSTART:20201101T060000
END:STANDARD
BEGIN:DAYLIGHT
TZOFFSETFROM:-0500
TZOFFSETTO:-0400
TZNAME:EDT
DTSTART:20210314T070000
END:DAYLIGHT
BEGIN:STANDARD
TZOFFSETFROM:-0400
TZOFFSETTO:-0500
TZNAME:EST
DTSTART:20211107T060000
END:STANDARD
BEGIN:DAYLIGHT
TZOFFSETFROM:-0500
TZOFFSETTO:-0400
TZNAME:EDT
DTSTART:20220313T070000
END:DAYLIGHT
BEGIN:STANDARD
TZOFFSETFROM:-0400
TZOFFSETTO:-0500
TZNAME:EST
DTSTART:20221106T060000
END:STANDARD
END:VTIMEZONE
BEGIN:VEVENT
DTSTART;VALUE=DATE:20211011
DTEND;VALUE=DATE:20211012
DTSTAMP:20260423T192303
CREATED:20210511T164303Z
LAST-MODIFIED:20210804T141205Z
UID:4593-1633910400-1633996799@brooklinefoundation.org
SUMMARY:Team Brookline - 125th Boston Marathon
DESCRIPTION:The Boston Marathon is back with historic October running and Team Brookline will be part of the reduced field of runners. The BEF has six amazing runners who will be raising money in support of public educators in Brookline! You can find their individual fundraising pages below. We hope you can help them meet their fundraising goals in this shortened training and fundraising period. \n\nJosh Eagle\nAlan Kurd\nChima Ikonne\nBob Neer\nStephanie Guseh\nChristopher Weeks\n\n 
URL:https://brooklinefoundation.org/event/team-brookline-october-2021/
LOCATION:MA
ATTACH;FMTTYPE=image/jpeg:https://brooklinefoundation.org/wp-content/uploads/2021/05/General-Post-C-e1625836907514.jpg
END:VEVENT
BEGIN:VEVENT
DTSTART;TZID=America/New_York:20211015T170000
DTEND;TZID=America/New_York:20211015T203000
DTSTAMP:20260423T192303
CREATED:20210804T152745Z
LAST-MODIFIED:20211006T174742Z
UID:4826-1634317200-1634329800@brooklinefoundation.org
SUMMARY:Margaret Metzger Fellowship Reading
DESCRIPTION:This October\, we hope to bring together our six 2021 Margaret Metzger Fellows to read their essays to a live audience. This team of teachers and paraprofessionals worked collaboratively this summer to craft deeply personal essays about what it means to be a teacher today. \nSusan Balogh\, Baker School\, 7th Grade\, Social Studies\nZac Broken Rope\, Brookline High School\, SWS\, English\nAlisa Conner\, Brookline High School\, Spanish\nWill Gordon\, Lawrence School\, Paraprofessional\nColleen Kavanagh\, Runkle School\, 5th Grade\nWan Wang\, Driscoll School\, Mandarin \nOctober 15\, 2021\, 5:00pm at the Lincoln School Auditorium\, 19 Kennard Street\, Brookline MA \nIn-person attendance is limited; please join us streaming online via this link! For more information\, please contact 617-232-3846.
URL:https://brooklinefoundation.org/event/margaret-metzger-fellowship-reading/
LOCATION:Lincoln School Auditorium\, 19 Kennard Street\, Brookline\, MA\, 02445\, United States
ATTACH;FMTTYPE=image/jpeg:https://brooklinefoundation.org/wp-content/uploads/2021/08/Metzger-2021-Fellows-scaled.jpg
END:VEVENT
END:VCALENDAR