BEGIN:VCALENDAR
VERSION:2.0
PRODID:-//Brookline Education Foundation - ECPv6.15.20//NONSGML v1.0//EN
CALSCALE:GREGORIAN
METHOD:PUBLISH
X-ORIGINAL-URL:https://brooklinefoundation.org
X-WR-CALDESC:Events for Brookline Education Foundation
REFRESH-INTERVAL;VALUE=DURATION:PT1H
X-Robots-Tag:noindex
X-PUBLISHED-TTL:PT1H
BEGIN:VTIMEZONE
TZID:America/New_York
BEGIN:DAYLIGHT
TZOFFSETFROM:-0500
TZOFFSETTO:-0400
TZNAME:EDT
DTSTART:20210314T070000
END:DAYLIGHT
BEGIN:STANDARD
TZOFFSETFROM:-0400
TZOFFSETTO:-0500
TZNAME:EST
DTSTART:20211107T060000
END:STANDARD
BEGIN:DAYLIGHT
TZOFFSETFROM:-0500
TZOFFSETTO:-0400
TZNAME:EDT
DTSTART:20220313T070000
END:DAYLIGHT
BEGIN:STANDARD
TZOFFSETFROM:-0400
TZOFFSETTO:-0500
TZNAME:EST
DTSTART:20221106T060000
END:STANDARD
BEGIN:DAYLIGHT
TZOFFSETFROM:-0500
TZOFFSETTO:-0400
TZNAME:EDT
DTSTART:20230312T070000
END:DAYLIGHT
BEGIN:STANDARD
TZOFFSETFROM:-0400
TZOFFSETTO:-0500
TZNAME:EST
DTSTART:20231105T060000
END:STANDARD
END:VTIMEZONE
BEGIN:VEVENT
DTSTART;TZID=America/New_York:20220510T153000
DTEND;TZID=America/New_York:20220510T170000
DTSTAMP:20260423T092752
CREATED:20220509T140903Z
LAST-MODIFIED:20220509T140904Z
UID:5541-1652196600-1652202000@brooklinefoundation.org
SUMMARY:Celebrating Teachers
DESCRIPTION:BEF donors and board members and Brookline educators will gather to recognize this year’s grant and award winners.
URL:https://brooklinefoundation.org/event/celebrating-teachers-3/
LOCATION:Lincoln School Auditorium\, 19 Kennard Street\, Brookline\, MA\, 02445\, United States
END:VEVENT
BEGIN:VEVENT
DTSTART;TZID=America/New_York:20220510T153000
DTEND;TZID=America/New_York:20220510T170000
DTSTAMP:20260423T092752
CREATED:20220510T193042Z
LAST-MODIFIED:20220509T135411Z
UID:5518-1652196600-1652202000@brooklinefoundation.org
SUMMARY:Celebrating Teachers
DESCRIPTION:Educators and the BEF community will gather to celebrate this year’s Grant winners and Award winners.
URL:https://brooklinefoundation.org/event/celebrating-teachers-2/
LOCATION:Lincoln School Auditorium\, 19 Kennard Street\, Brookline\, MA\, 02445\, United States
CATEGORIES:Event
END:VEVENT
END:VCALENDAR